BEGIN:VCALENDAR
VERSION:2.0
PRODID:-//ChamberMaster//Event Calendar 2.0//EN
METHOD:PUBLISH
X-PUBLISHED-TTL:P1H
REFRESH-INTERVAL:P1H
CALSCALE:GREGORIAN
BEGIN:VTIMEZONE
TZID:America/Los_Angeles
BEGIN:DAYLIGHT
RRULE:FREQ=YEARLY;BYMONTH=3;BYDAY=2SU
DTSTART:20070101T000000
TZOFFSETFROM:-0800
TZOFFSETTO:-0700
TZNAME:Pacific Daylight Time
END:DAYLIGHT
BEGIN:STANDARD
RRULE:FREQ=YEARLY;BYMONTH=11;BYDAY=1SU
DTSTART:20070101T000000
TZOFFSETFROM:-0700
TZOFFSETTO:-0800
TZNAME:Pacific Standard Time
END:STANDARD
END:VTIMEZONE
BEGIN:VEVENT
DTSTART;TZID=America/Los_Angeles:20260430T163000
DTEND;TZID=America/Los_Angeles:20260430T183000
X-MICROSOFT-CDO-ALLDAYEVENT:FALSE
SUMMARY:Local Candidate Forum
DESCRIPTION:Join us for an engaging evening with local candidates for Kootenai County Commissioner and Assessor. Get to know the candidates and make your voice count on May 19th!
X-ALT-DESC;FMTTYPE=text/html:Join us for an engaging evening with local candidates for Kootenai County Commissioner and Assessor. Get to know the candidates and make your voice count on May 19th!
LOCATION:702 E Front Ave Coeur d'Alene ID 83814
UID:e.2170.1444967
SEQUENCE:3
DTSTAMP:20260425T134431Z
URL:https://members.cdarealtors.com/calendar/Details/local-candidate-forum-1711458?sourceTypeId=Hub
END:VEVENT
END:VCALENDAR
